Workbook

Sheet Maximos
A1: REGISTRO DE MAXIMOS - POWERLIFTING
A3: Datos del Atleta
A4: Nombre:
A5: Peso Corporal (kg):
A6: Categoria:
A7: Sexo (M/F):
A9: 1RM Actuales
A10: Esercizio | B10: 1RM (kg) | C10: Data | D10: Competicion / Gym
A11: Sentadilla
A12: Press Banca
A13: Peso Muerto
A14: TOTAL | B14: =SUM(B11:B13)
A16: Wilks / DOTS
A17: Total (kg): | B17: =B14
A18: Peso Corporal (kg): | B18: =B5
A19: Nota: Calcula tu Wilks/DOTS en openpowerlifting.org
A21: Creato con TrainerStudio.com

Sheet Programa 12 Semanas
A1: PROGRAMA BASICO DE POWERLIFTING - 12 SEMANAS
A2: Introduce tus 1RM en la hoja 'Maximos'. Los pesos se calculan automaticamente.
A4: Semana | B4: Dia | C4: Esercizio | D4: % 1RM | E4: Serie | F4: Reps | G4: Peso (kg)
A5: 1 | B5: Dia 1 (Sentadilla) | C5: Sentadilla | D5: 65% | E5: 4 | F5: 10 | G5: =ROUND(Maximos!B11*0.65,1)
A6: 1 | B6: Dia 1 (Sentadilla) | C6: Prensa | D6: - | E6: 3 | F6: 10
A7: 1 | B7: Dia 1 (Sentadilla) | C7: Extension Cuadriceps | D7: - | E7: 3 | F7: 12
A8: 1 | B8: Dia 1 (Sentadilla) | C8: Curl Femoral | D8: - | E8: 3 | F8: 12
A9: 1 | B9: Dia 2 (Press Banca) | C9: Press Banca | D9: 65% | E9: 4 | F9: 10 | G9: =ROUND(Maximos!B12*0.65,1)
A10: 1 | B10: Dia 2 (Press Banca) | C10: Press Inclinado | D10: - | E10: 3 | F10: 10
A11: 1 | B11: Dia 2 (Press Banca) | C11: Remo con Barra | D11: - | E11: 4 | F11: 8
A12: 1 | B12: Dia 2 (Press Banca) | C12: Triceps | D12: - | E12: 3 | F12: 12
A13: 1 | B13: Dia 3 (Peso Muerto) | C13: Peso Muerto | D13: 65% | E13: 4 | F13: 10 | G13: =ROUND(Maximos!B13*0.65,1)
A14: 1 | B14: Dia 3 (Peso Muerto) | C14: Peso Muerto Rumano | D14: - | E14: 3 | F14: 8
A15: 1 | B15: Dia 3 (Peso Muerto) | C15: Hip Thrust | D15: - | E15: 3 | F15: 10
A16: 1 | B16: Dia 3 (Peso Muerto) | C16: Abdominales | D16: - | E16: 3 | F16: 15
A17: 2 | B17: Dia 1 (Sentadilla) | C17: Sentadilla | D17: 67.5% | E17: 4 | F17: 10 | G17: =ROUND(Maximos!B11*0.675,1)
A18: 2 | B18: Dia 1 (Sentadilla) | C18: Prensa | D18: - | E18: 3 | F18: 10
A19: 2 | B19: Dia 1 (Sentadilla) | C19: Extension Cuadriceps | D19: - | E19: 3 | F19: 12
A20: 2 | B20: Dia 1 (Sentadilla) | C20: Curl Femoral | D20: - | E20: 3 | F20: 12
A21: 2 | B21: Dia 2 (Press Banca) | C21: Press Banca | D21: 67.5% | E21: 4 | F21: 10 | G21: =ROUND(Maximos!B12*0.675,1)
A22: 2 | B22: Dia 2 (Press Banca) | C22: Press Inclinado | D22: - | E22: 3 | F22: 10
A23: 2 | B23: Dia 2 (Press Banca) | C23: Remo con Barra | D23: - | E23: 4 | F23: 8
A24: 2 | B24: Dia 2 (Press Banca) | C24: Triceps | D24: - | E24: 3 | F24: 12
A25: 2 | B25: Dia 3 (Peso Muerto) | C25: Peso Muerto | D25: 67.5% | E25: 4 | F25: 10 | G25: =ROUND(Maximos!B13*0.675,1)
A26: 2 | B26: Dia 3 (Peso Muerto) | C26: Peso Muerto Rumano | D26: - | E26: 3 | F26: 8
A27: 2 | B27: Dia 3 (Peso Muerto) | C27: Hip Thrust | D27: - | E27: 3 | F27: 10
A28: 2 | B28: Dia 3 (Peso Muerto) | C28: Abdominales | D28: - | E28: 3 | F28: 15
A29: 3 | B29: Dia 1 (Sentadilla) | C29: Sentadilla | D29: 70% | E29: 4 | F29: 8 | G29: =ROUND(Maximos!B11*0.7,1)
A30: 3 | B30: Dia 1 (Sentadilla) | C30: Prensa | D30: - | E30: 3 | F30: 10
A31: 3 | B31: Dia 1 (Sentadilla) | C31: Extension Cuadriceps | D31: - | E31: 3 | F31: 12
A32: 3 | B32: Dia 1 (Sentadilla) | C32: Curl Femoral | D32: - | E32: 3 | F32: 12
A33: 3 | B33: Dia 2 (Press Banca) | C33: Press Banca | D33: 70% | E33: 4 | F33: 8 | G33: =ROUND(Maximos!B12*0.7,1)
A34: 3 | B34: Dia 2 (Press Banca) | C34: Press Inclinado | D34: - | E34: 3 | F34: 10
A35: 3 | B35: Dia 2 (Press Banca) | C35: Remo con Barra | D35: - | E35: 4 | F35: 8
A36: 3 | B36: Dia 2 (Press Banca) | C36: Triceps | D36: - | E36: 3 | F36: 12
A37: 3 | B37: Dia 3 (Peso Muerto) | C37: Peso Muerto | D37: 70% | E37: 4 | F37: 8 | G37: =ROUND(Maximos!B13*0.7,1)
A38: 3 | B38: Dia 3 (Peso Muerto) | C38: Peso Muerto Rumano | D38: - | E38: 3 | F38: 8
A39: 3 | B39: Dia 3 (Peso Muerto) | C39: Hip Thrust | D39: - | E39: 3 | F39: 10
A40: 3 | B40: Dia 3 (Peso Muerto) | C40: Abdominales | D40: - | E40: 3 | F40: 15
A41: 4 | B41: Dia 1 (Sentadilla) | C41: Sentadilla | D41: 60% | E41: 3 | F41: 8 | G41: =ROUND(Maximos!B11*0.6,1)
...

Sheet Competicion
A1: PLANIFICADOR DE INTENTOS - COMPETICION
A3: Competicion:
A4: Data:
A5: Lugar:
A6: Categoria:
A7: Peso corporal:
A9: Esercizio | B9: 1RM Gym | C9: Opener (1er) | D9: % de 1RM | E9: 2do Intento | F9: % de 1RM | G9: 3er Intento | H9: % de 1RM | I9: Resultado | J9: Mejor Intento
A10: Sentadilla | B10: =Maximos!B11 | D10: =IF(AND(C10<>"",B10<>""),ROUND(C10/B10*100,1)&"%","") | F10: =IF(AND(E10<>"",B10<>""),ROUND(E10/B10*100,1)&"%","") | H10: =IF(AND(G10<>"",B10<>""),ROUND(G10/B10*100,1)&"%","")
A11: Press Banca | B11: =Maximos!B12 | D11: =IF(AND(C11<>"",B11<>""),ROUND(C11/B11*100,1)&"%","") | F11: =IF(AND(E11<>"",B11<>""),ROUND(E11/B11*100,1)&"%","") | H11: =IF(AND(G11<>"",B11<>""),ROUND(G11/B11*100,1)&"%","")
A12: Peso Muerto | B12: =Maximos!B13 | D12: =IF(AND(C12<>"",B12<>""),ROUND(C12/B12*100,1)&"%","") | F12: =IF(AND(E12<>"",B12<>""),ROUND(E12/B12*100,1)&"%","") | H12: =IF(AND(G12<>"",B12<>""),ROUND(G12/B12*100,1)&"%","")
A13: TOTAL | I13: =SUM(I10:I12)
A15: Estrategia de Intentos:
A16: 1er intento (Opener): ~90-92% del 1RM de gym. Debe ser un peso seguro.
A17: 2do intento: ~95-97% si el opener fue facil.
A18: 3er intento: PR o peso estrategico segun la situacion.
A20: Creato con TrainerStudio.com
