Workbook

Sheet Maximos
A1: REGISTRO DE MAXIMOS - POWERLIFTING
A3: Datos del Atleta
A4: Nombre:
A5: Peso Corporal (kg):
A6: Categoria:
A7: Sexo (M/F):
A9: 1RM Actuales
A10: Esercizio | B10: 1RM (kg) | C10: Data | D10: Competicion / Gym
A11: Sentadilla
A12: Press Banca
A13: Peso Muerto
A14: TOTAL | B14: =SUM(B11:B13)
A16: Wilks / DOTS
A17: Total (kg): | B17: =B14
A18: Peso Corporal (kg): | B18: =B5
A19: Nota: Calcula tu Wilks/DOTS en openpowerlifting.org
A21: Creato con TrainerStudio.com

Sheet Programa 12 Semanas
A1: PROGRAMA BASICO DE POWERLIFTING - 12 SEMANAS
A2: Introduce tus 1RM en la hoja 'Maximos'. Los pesos se calculan automaticamente.
A4: Semana | B4: Dia | C4: Esercizio | D4: % 1RM | E4: Serie | F4: Reps | G4: Peso (kg)
A5: 1 | B5: Dia 1 (Sentadilla) | C5: Sentadilla | D5: 65% | E5: 4 | F5: 10 | G5: =ROUND(Maximos!B11*0.65,1)
A6: 1 | B6: Dia 1 (Sentadilla) | C6: Prensa | D6: - | E6: 3 | F6: 10
A7: 1 | B7: Dia 1 (Sentadilla) | C7: Extension Cuadriceps | D7: - | E7: 3 | F7: 12
A8: 1 | B8: Dia 1 (Sentadilla) | C8: Curl Femoral | D8: - | E8: 3 | F8: 12
A9: 1 | B9: Dia 2 (Press Banca) | C9: Press Banca | D9: 65% | E9: 4 | F9: 10 | G9: =ROUND(Maximos!B12*0.65,1)
A10: 1 | B10: Dia 2 (Press Banca) | C10: Press Inclinado | D10: - | E10: 3 | F10: 10
A11: 1 | B11: Dia 2 (Press Banca) | C11: Remo con Barra | D11: - | E11: 4 | F11: 8
A12: 1 | B12: Dia 2 (Press Banca) | C12: Triceps | D12: - | E12: 3 | F12: 12
A13: 1 | B13: Dia 3 (Peso Muerto) | C13: Peso Muerto | D13: 65% | E13: 4 | F13: 10 | G13: =ROUND(Maximos!B13*0.65,1)
A14: 1 | B14: Dia 3 (Peso Muerto) | C14: Peso Muerto Rumano | D14: - | E14: 3 | F14: 8
A15: 1 | B15: Dia 3 (Peso Muerto) | C15: Hip Thrust | D15: - | E15: 3 | F15: 10
A16: 1 | B16: Dia 3 (Peso Muerto) | C16: Abdominales | D16: - | E16: 3 | F16: 15
A17: 2 | B17: Dia 1 (Sentadilla) | C17: Sentadilla | D17: 67.5% | E17: 4 | F17: 10 | G17: =ROUND(Maximos!B11*0.675,1)
A18: 2 | B18: Dia 1 (Sentadilla) | C18: Prensa | D18: - | E18: 3 | F18: 10
A19: 2 | B19: Dia 1 (Sentadilla) | C19: Extension Cuadriceps | D19: - | E19: 3 | F19: 12
A20: 2 | B20: Dia 1 (Sentadilla) | C20: Curl Femoral | D20: - | E20: 3 | F20: 12
A21: 2 | B21: Dia 2 (Press Banca) | C21: Press Banca | D21: 67.5% | E21: 4 | F21: 10 | G21: =ROUND(Maximos!B12*0.675,1)
A22: 2 | B22: Dia 2 (Press Banca) | C22: Press Inclinado | D22: - | E22: 3 | F22: 10
A23: 2 | B23: Dia 2 (Press Banca) | C23: Remo con Barra | D23: - | E23: 4 | F23: 8
A24: 2 | B24: Dia 2 (Press Banca) | C24: Triceps | D24: - | E24: 3 | F24: 12
A25: 2 | B25: Dia 3 (Peso Muerto) | C25: Peso Muerto | D25: 67.5% | E25: 4 | F25: 10 | G25: =ROUND(Maximos!B13*0.675,1)
A26: 2 | B26: Dia 3 (Peso Muerto) | C26: Peso Muerto Rumano | D26: - | E26: 3 | F26: 8
A27: 2 | B27: Dia 3 (Peso Muerto) | C27: Hip Thrust | D27: - | E27: 3 | F27: 10
A28: 2 | B28: Dia 3 (Peso Muerto) | C28: Abdominales | D28: - | E28: 3 | F28: 15
A29: 3 | B29: Dia 1 (Sentadilla) | C29: Sentadilla | D29: 70% | E29: 4 | F29: 8 | G29: =ROUND(Maximos!B11*0.7,1)
A30: 3 | B30: Dia 1 (Sentadilla) | C30: Prensa | D30: - | E30: 3 | F30: 10
A31: 3 | B31: Dia 1 (Sentadilla) | C31: Extension Cuadriceps | D31: - | E31: 3 | F31: 12
A32: 3 | B32: Dia 1 (Sentadilla) | C32: Curl Femoral | D32: - | E32: 3 | F32: 12
A33: 3 | B33: Dia 2 (Press Banca) | C33: Press Banca | D33: 70% | E33: 4 | F33: 8 | G33: =ROUND(Maximos!B12*0.7,1)
A34: 3 | B34: Dia 2 (Press Banca) | C34: Press Inclinado | D34: - | E34: 3 | F34: 10
A35: 3 | B35: Dia 2 (Press Banca) | C35: Remo con Barra | D35: - | E35: 4 | F35: 8
A36: 3 | B36: Dia 2 (Press Banca) | C36: Triceps | D36: - | E36: 3 | F36: 12
A37: 3 | B37: Dia 3 (Peso Muerto) | C37: Peso Muerto | D37: 70% | E37: 4 | F37: 8 | G37: =ROUND(Maximos!B13*0.7,1)
A38: 3 | B38: Dia 3 (Peso Muerto) | C38: Peso Muerto Rumano | D38: - | E38: 3 | F38: 8
A39: 3 | B39: Dia 3 (Peso Muerto) | C39: Hip Thrust | D39: - | E39: 3 | F39: 10
A40: 3 | B40: Dia 3 (Peso Muerto) | C40: Abdominales | D40: - | E40: 3 | F40: 15
A41: 4 | B41: Dia 1 (Sentadilla) | C41: Sentadilla | D41: 60% | E41: 3 | F41: 8 | G41: =ROUND(Maximos!B11*0.6,1)
A42: 4 | B42: Dia 1 (Sentadilla) | C42: Prensa | D42: - | E42: 3 | F42: 10
A43: 4 | B43: Dia 1 (Sentadilla) | C43: Extension Cuadriceps | D43: - | E43: 3 | F43: 12
A44: 4 | B44: Dia 1 (Sentadilla) | C44: Curl Femoral | D44: - | E44: 3 | F44: 12
A45: 4 | B45: Dia 2 (Press Banca) | C45: Press Banca | D45: 60% | E45: 3 | F45: 8 | G45: =ROUND(Maximos!B12*0.6,1)
A46: 4 | B46: Dia 2 (Press Banca) | C46: Press Inclinado | D46: - | E46: 3 | F46: 10
A47: 4 | B47: Dia 2 (Press Banca) | C47: Remo con Barra | D47: - | E47: 4 | F47: 8
A48: 4 | B48: Dia 2 (Press Banca) | C48: Triceps | D48: - | E48: 3 | F48: 12
A49: 4 | B49: Dia 3 (Peso Muerto) | C49: Peso Muerto | D49: 60% | E49: 3 | F49: 8 | G49: =ROUND(Maximos!B13*0.6,1)
A50: 4 | B50: Dia 3 (Peso Muerto) | C50: Peso Muerto Rumano | D50: - | E50: 3 | F50: 8
A51: 4 | B51: Dia 3 (Peso Muerto) | C51: Hip Thrust | D51: - | E51: 3 | F51: 10
A52: 4 | B52: Dia 3 (Peso Muerto) | C52: Abdominales | D52: - | E52: 3 | F52: 15
A53: 5 | B53: Dia 1 (Sentadilla) | C53: Sentadilla | D53: 75% | E53: 5 | F53: 5 | G53: =ROUND(Maximos!B11*0.75,1)
A54: 5 | B54: Dia 1 (Sentadilla) | C54: Prensa | D54: - | E54: 3 | F54: 10
A55: 5 | B55: Dia 1 (Sentadilla) | C55: Extension Cuadriceps | D55: - | E55: 3 | F55: 12
A56: 5 | B56: Dia 1 (Sentadilla) | C56: Curl Femoral | D56: - | E56: 3 | F56: 12
A57: 5 | B57: Dia 2 (Press Banca) | C57: Press Banca | D57: 75% | E57: 5 | F57: 5 | G57: =ROUND(Maximos!B12*0.75,1)
A58: 5 | B58: Dia 2 (Press Banca) | C58: Press Inclinado | D58: - | E58: 3 | F58: 10
A59: 5 | B59: Dia 2 (Press Banca) | C59: Remo con Barra | D59: - | E59: 4 | F59: 8
A60: 5 | B60: Dia 2 (Press Banca) | C60: Triceps | D60: - | E60: 3 | F60: 12
A61: 5 | B61: Dia 3 (Peso Muerto) | C61: Peso Muerto | D61: 75% | E61: 5 | F61: 5 | G61: =ROUND(Maximos!B13*0.75,1)
A62: 5 | B62: Dia 3 (Peso Muerto) | C62: Peso Muerto Rumano | D62: - | E62: 3 | F62: 8
A63: 5 | B63: Dia 3 (Peso Muerto) | C63: Hip Thrust | D63: - | E63: 3 | F63: 10
A64: 5 | B64: Dia 3 (Peso Muerto) | C64: Abdominales | D64: - | E64: 3 | F64: 15
A65: 6 | B65: Dia 1 (Sentadilla) | C65: Sentadilla | D65: 77.5% | E65: 5 | F65: 5 | G65: =ROUND(Maximos!B11*0.775,1)
A66: 6 | B66: Dia 1 (Sentadilla) | C66: Prensa | D66: - | E66: 3 | F66: 10
A67: 6 | B67: Dia 1 (Sentadilla) | C67: Extension Cuadriceps | D67: - | E67: 3 | F67: 12
A68: 6 | B68: Dia 1 (Sentadilla) | C68: Curl Femoral | D68: - | E68: 3 | F68: 12
A69: 6 | B69: Dia 2 (Press Banca) | C69: Press Banca | D69: 77.5% | E69: 5 | F69: 5 | G69: =ROUND(Maximos!B12*0.775,1)
A70: 6 | B70: Dia 2 (Press Banca) | C70: Press Inclinado | D70: - | E70: 3 | F70: 10
A71: 6 | B71: Dia 2 (Press Banca) | C71: Remo con Barra | D71: - | E71: 4 | F71: 8
A72: 6 | B72: Dia 2 (Press Banca) | C72: Triceps | D72: - | E72: 3 | F72: 12
A73: 6 | B73: Dia 3 (Peso Muerto) | C73: Peso Muerto | D73: 77.5% | E73: 5 | F73: 5 | G73: =ROUND(Maximos!B13*0.775,1)
A74: 6 | B74: Dia 3 (Peso Muerto) | C74: Peso Muerto Rumano | D74: - | E74: 3 | F74: 8
A75: 6 | B75: Dia 3 (Peso Muerto) | C75: Hip Thrust | D75: - | E75: 3 | F75: 10
A76: 6 | B76: Dia 3 (Peso Muerto) | C76: Abdominales | D76: - | E76: 3 | F76: 15
A77: 7 | B77: Dia 1 (Sentadilla) | C77: Sentadilla | D77: 80% | E77: 5 | F77: 5 | G77: =ROUND(Maximos!B11*0.8,1)
A78: 7 | B78: Dia 1 (Sentadilla) | C78: Prensa | D78: - | E78: 3 | F78: 10
A79: 7 | B79: Dia 1 (Sentadilla) | C79: Extension Cuadriceps | D79: - | E79: 3 | F79: 12
A80: 7 | B80: Dia 1 (Sentadilla) | C80: Curl Femoral | D80: - | E80: 3 | F80: 12
A81: 7 | B81: Dia 2 (Press Banca) | C81: Press Banca | D81: 80% | E81: 5 | F81: 5 | G81: =ROUND(Maximos!B12*0.8,1)
A82: 7 | B82: Dia 2 (Press Banca) | C82: Press Inclinado | D82: - | E82: 3 | F82: 10
A83: 7 | B83: Dia 2 (Press Banca) | C83: Remo con Barra | D83: - | E83: 4 | F83: 8
A84: 7 | B84: Dia 2 (Press Banca) | C84: Triceps | D84: - | E84: 3 | F84: 12
A85: 7 | B85: Dia 3 (Peso Muerto) | C85: Peso Muerto | D85: 80% | E85: 5 | F85: 5 | G85: =ROUND(Maximos!B13*0.8,1)
A86: 7 | B86: Dia 3 (Peso Muerto) | C86: Peso Muerto Rumano | D86: - | E86: 3 | F86: 8
A87: 7 | B87: Dia 3 (Peso Muerto) | C87: Hip Thrust | D87: - | E87: 3 | F87: 10
A88: 7 | B88: Dia 3 (Peso Muerto) | C88: Abdominales | D88: - | E88: 3 | F88: 15
A89: 8 | B89: Dia 1 (Sentadilla) | C89: Sentadilla | D89: 65% | E89: 3 | F89: 5 | G89: =ROUND(Maximos!B11*0.65,1)
A90: 8 | B90: Dia 1 (Sentadilla) | C90: Prensa | D90: - | E90: 3 | F90: 10
A91: 8 | B91: Dia 1 (Sentadilla) | C91: Extension Cuadriceps | D91: - | E91: 3 | F91: 12
A92: 8 | B92: Dia 1 (Sentadilla) | C92: Curl Femoral | D92: - | E92: 3 | F92: 12
A93: 8 | B93: Dia 2 (Press Banca) | C93: Press Banca | D93: 65% | E93: 3 | F93: 5 | G93: =ROUND(Maximos!B12*0.65,1)
A94: 8 | B94: Dia 2 (Press Banca) | C94: Press Inclinado | D94: - | E94: 3 | F94: 10
A95: 8 | B95: Dia 2 (Press Banca) | C95: Remo con Barra | D95: - | E95: 4 | F95: 8
A96: 8 | B96: Dia 2 (Press Banca) | C96: Triceps | D96: - | E96: 3 | F96: 12
A97: 8 | B97: Dia 3 (Peso Muerto) | C97: Peso Muerto | D97: 65% | E97: 3 | F97: 5 | G97: =ROUND(Maximos!B13*0.65,1)
A98: 8 | B98: Dia 3 (Peso Muerto) | C98: Peso Muerto Rumano | D98: - | E98: 3 | F98: 8
A99: 8 | B99: Dia 3 (Peso Muerto) | C99: Hip Thrust | D99: - | E99: 3 | F99: 10
A100: 8 | B100: Dia 3 (Peso Muerto) | C100: Abdominales | D100: - | E100: 3 | F100: 15
A101: 9 | B101: Dia 1 (Sentadilla) | C101: Sentadilla | D101: 85% | E101: 5 | F101: 3 | G101: =ROUND(Maximos!B11*0.85,1)
...

Sheet Competicion
A1: PLANIFICADOR DE INTENTOS - COMPETICION
A3: Competicion:
A4: Data:
A5: Lugar:
A6: Categoria:
A7: Peso corporal:
A9: Esercizio | B9: 1RM Gym | C9: Opener (1er) | D9: % de 1RM | E9: 2do Intento | F9: % de 1RM | G9: 3er Intento | H9: % de 1RM | I9: Resultado | J9: Mejor Intento
A10: Sentadilla | B10: =Maximos!B11 | D10: =IF(AND(C10<>"",B10<>""),ROUND(C10/B10*100,1)&"%","") | F10: =IF(AND(E10<>"",B10<>""),ROUND(E10/B10*100,1)&"%","") | H10: =IF(AND(G10<>"",B10<>""),ROUND(G10/B10*100,1)&"%","")
A11: Press Banca | B11: =Maximos!B12 | D11: =IF(AND(C11<>"",B11<>""),ROUND(C11/B11*100,1)&"%","") | F11: =IF(AND(E11<>"",B11<>""),ROUND(E11/B11*100,1)&"%","") | H11: =IF(AND(G11<>"",B11<>""),ROUND(G11/B11*100,1)&"%","")
A12: Peso Muerto | B12: =Maximos!B13 | D12: =IF(AND(C12<>"",B12<>""),ROUND(C12/B12*100,1)&"%","") | F12: =IF(AND(E12<>"",B12<>""),ROUND(E12/B12*100,1)&"%","") | H12: =IF(AND(G12<>"",B12<>""),ROUND(G12/B12*100,1)&"%","")
A13: TOTAL | I13: =SUM(I10:I12)
A15: Estrategia de Intentos:
A16: 1er intento (Opener): ~90-92% del 1RM de gym. Debe ser un peso seguro.
A17: 2do intento: ~95-97% si el opener fue facil.
A18: 3er intento: PR o peso estrategico segun la situacion.
A20: Creato con TrainerStudio.com
